BEGIN:VCALENDAR
VERSION:2.0
PRODID:-//Franklin County || Chamber of Commerce - ECPv6.15.20//NONSGML v1.0//EN
CALSCALE:GREGORIAN
METHOD:PUBLISH
X-ORIGINAL-URL:https://franklincountychamber.org
X-WR-CALDESC:Events for Franklin County || Chamber of Commerce
REFRESH-INTERVAL;VALUE=DURATION:PT1H
X-Robots-Tag:noindex
X-PUBLISHED-TTL:PT1H
BEGIN:VTIMEZONE
TZID:America/Chicago
BEGIN:DAYLIGHT
TZOFFSETFROM:-0600
TZOFFSETTO:-0500
TZNAME:CDT
DTSTART:20220313T080000
END:DAYLIGHT
BEGIN:STANDARD
TZOFFSETFROM:-0500
TZOFFSETTO:-0600
TZNAME:CST
DTSTART:20221106T070000
END:STANDARD
BEGIN:DAYLIGHT
TZOFFSETFROM:-0600
TZOFFSETTO:-0500
TZNAME:CDT
DTSTART:20230312T080000
END:DAYLIGHT
BEGIN:STANDARD
TZOFFSETFROM:-0500
TZOFFSETTO:-0600
TZNAME:CST
DTSTART:20231105T070000
END:STANDARD
BEGIN:DAYLIGHT
TZOFFSETFROM:-0600
TZOFFSETTO:-0500
TZNAME:CDT
DTSTART:20240310T080000
END:DAYLIGHT
BEGIN:STANDARD
TZOFFSETFROM:-0500
TZOFFSETTO:-0600
TZNAME:CST
DTSTART:20241103T070000
END:STANDARD
BEGIN:DAYLIGHT
TZOFFSETFROM:-0600
TZOFFSETTO:-0500
TZNAME:CDT
DTSTART:20250309T080000
END:DAYLIGHT
BEGIN:STANDARD
TZOFFSETFROM:-0500
TZOFFSETTO:-0600
TZNAME:CST
DTSTART:20251102T070000
END:STANDARD
END:VTIMEZONE
BEGIN:VEVENT
DTSTART;TZID=America/Chicago:20240621T120000
DTEND;TZID=America/Chicago:20240621T180000
DTSTAMP:20260423T064344
CREATED:20240528T182819Z
LAST-MODIFIED:20240528T182843Z
UID:12917-1718971200-1718992800@franklincountychamber.org
SUMMARY:Luxe Aesthetics & Wellness Ribbon Cutting & Open House
DESCRIPTION:Join us for the Ribbon Cutting & Open House for Red Bay’s newest business: Luxe Aesthetics & Wellness!\nTheir team can’t wait to pamper you with exclusive offers & treatments.\nTheir services include: Hormone Replacement\, IV Therapy\, Chemical Peels\, Facials\, Spray Tans\, Laser Hair Removal\, Lashes/Brows\, Dermaplaning\, etc. \nRibbon Cutting at 12 PM with the Open House to follow from 1 PM – 6 PM.
URL:https://franklincountychamber.org/upcoming-event/luxe-aesthetics-wellness-ribbon-cutting-open-house/
LOCATION:Luxe Aesthetics & Wellness\, 211 Hospital Road\, Red Bay\, AL\, 35582\, United States
CATEGORIES:Ribbon Cuttings
ATTACH;FMTTYPE=image/png:https://franklincountychamber.org/wp-content/uploads/2024/05/Luxe-Aesthetics-RC-Open-House.png
END:VEVENT
BEGIN:VEVENT
DTSTART;TZID=America/Chicago:20240328T190000
DTEND;TZID=America/Chicago:20240328T193000
DTSTAMP:20260423T064344
CREATED:20240312T184132Z
LAST-MODIFIED:20240312T190243Z
UID:12505-1711652400-1711654200@franklincountychamber.org
SUMMARY:VFW Post 5184 Ribbon Cutting
DESCRIPTION:Join us for the Ribbon Cutting for the VFW Post 5184 Russellville! Although this Veteran Organization has been around a long time\, we are welcoming them as a new Chamber Member!\nThis group meets on the 4th Thursday of every month & encourages fellow veterans to attend meetings & officially join!\nVFQ Post 5184 Ribbon Cutting:\n310 W. Lawrence Street\, Russellville\, AL 35653\nThursday\, March 28\, 2024\n7:00 PM
URL:https://franklincountychamber.org/upcoming-event/vfw-post-5184-ribbon-cutting/
LOCATION:VFW Post 5184\, 310 W Lawrence St.\, Russellville\, AL\, 35653\, United States
CATEGORIES:Ribbon Cuttings
ATTACH;FMTTYPE=image/png:https://franklincountychamber.org/wp-content/uploads/2024/03/VFW-Post-5184.png
ORGANIZER;CN="Franklin County Chamber of Commerce":MAILTO:info@franklincountychamber.org
END:VEVENT
BEGIN:VEVENT
DTSTART;TZID=America/Chicago:20240312T100000
DTEND;TZID=America/Chicago:20240312T110000
DTSTAMP:20260423T064344
CREATED:20240301T212129Z
LAST-MODIFIED:20240307T200919Z
UID:12491-1710237600-1710241200@franklincountychamber.org
SUMMARY:Happy Jack's Tire & Lube Ribbon Cutting
DESCRIPTION:Join us for Happy Jack’s Tire & Lube Ribbon Cutting!\nWe’re excited to welcome a new business to the City of Red Bay!
URL:https://franklincountychamber.org/upcoming-event/happy-jacks-tire-lube-ribbon-cutting/
LOCATION:Happy Jack’s Tire & Lube\, 823 Kennedy Street\, Red Bay\, AL\, 35582\, United States
CATEGORIES:Ribbon Cuttings
ATTACH;FMTTYPE=image/png:https://franklincountychamber.org/wp-content/uploads/2024/03/Happy-Jacks-Tire-Lube.png
ORGANIZER;CN="Franklin County Chamber of Commerce":MAILTO:info@franklincountychamber.org
END:VEVENT
BEGIN:VEVENT
DTSTART;TZID=America/Chicago:20231028T100000
DTEND;TZID=America/Chicago:20231028T193000
DTSTAMP:20260423T064344
CREATED:20231023T153206Z
LAST-MODIFIED:20231023T153206Z
UID:12077-1698487200-1698521400@franklincountychamber.org
SUMMARY:Happy Hollow Outdoors Ribbon Cutting & Grand Opening
DESCRIPTION:Join us for the Grand Opening and Ribbon Cutting at Happy Hollow Outdoors! They have a long list of spooktacular Halloween activities planned!\nFeaturing “KGB” Kerry Gilbert Band\, Joseph Baldwin\, Gary Nichols\, and John Anderson are performing live!\nThere will be vendors\, food trucks\, hayrides\, trick-or-treating\, inflatables\, face painting\, giveaways\, & much more!
URL:https://franklincountychamber.org/upcoming-event/happy-hollow-outdoors-ribbon-cutting-grand-opening/
LOCATION:Happy Hollow Outdoors\, 985 9th Street W\, Red Bay\, AL\, 35582\, United States
CATEGORIES:Ribbon Cuttings
ATTACH;FMTTYPE=image/jpeg:https://franklincountychamber.org/wp-content/uploads/2023/10/Happy-Hollow-Outdoors.jpg
ORGANIZER;CN="Happy Hollow Outdoors":MAILTO:denishat@southeast-sales.com
END:VEVENT
BEGIN:VEVENT
DTSTART;TZID=America/Chicago:20231026T140000
DTEND;TZID=America/Chicago:20231026T150000
DTSTAMP:20260423T064344
CREATED:20231004T173302Z
LAST-MODIFIED:20231004T173302Z
UID:11981-1698328800-1698332400@franklincountychamber.org
SUMMARY:Ribbon Cutting: Generations of Red Bay
DESCRIPTION:We will celebrate Generations of Red Bay joining the Chamber with a Ribbon Cutting!
URL:https://franklincountychamber.org/upcoming-event/ribbon-cutting-generations-of-red-bay/
LOCATION:Generations of Red Bay\, 106 10th Ave N\, Red Bay\, AL\, 35582\, United States
CATEGORIES:Ribbon Cuttings
ATTACH;FMTTYPE=image/png:https://franklincountychamber.org/wp-content/uploads/2023/10/Ribbon-Cuttings-1.png
ORGANIZER;CN="Franklin County Chamber of Commerce":MAILTO:info@franklincountychamber.org
END:VEVENT
END:VCALENDAR