BEGIN:VCALENDAR
VERSION:2.0
PRODID:-//Franklin County || Chamber of Commerce - ECPv6.15.20//NONSGML v1.0//EN
CALSCALE:GREGORIAN
METHOD:PUBLISH
X-ORIGINAL-URL:https://franklincountychamber.org
X-WR-CALDESC:Events for Franklin County || Chamber of Commerce
REFRESH-INTERVAL;VALUE=DURATION:PT1H
X-Robots-Tag:noindex
X-PUBLISHED-TTL:PT1H
BEGIN:VTIMEZONE
TZID:America/Chicago
BEGIN:DAYLIGHT
TZOFFSETFROM:-0600
TZOFFSETTO:-0500
TZNAME:CDT
DTSTART:20240310T080000
END:DAYLIGHT
BEGIN:STANDARD
TZOFFSETFROM:-0500
TZOFFSETTO:-0600
TZNAME:CST
DTSTART:20241103T070000
END:STANDARD
BEGIN:DAYLIGHT
TZOFFSETFROM:-0600
TZOFFSETTO:-0500
TZNAME:CDT
DTSTART:20250309T080000
END:DAYLIGHT
BEGIN:STANDARD
TZOFFSETFROM:-0500
TZOFFSETTO:-0600
TZNAME:CST
DTSTART:20251102T070000
END:STANDARD
BEGIN:DAYLIGHT
TZOFFSETFROM:-0600
TZOFFSETTO:-0500
TZNAME:CDT
DTSTART:20260308T080000
END:DAYLIGHT
BEGIN:STANDARD
TZOFFSETFROM:-0500
TZOFFSETTO:-0600
TZNAME:CST
DTSTART:20261101T070000
END:STANDARD
END:VTIMEZONE
BEGIN:VEVENT
DTSTART;VALUE=DATE:20251130
DTEND;VALUE=DATE:20251202
DTSTAMP:20260423T003818
CREATED:20241101T171535Z
LAST-MODIFIED:20251201T220039Z
UID:13867-1764460800-1764633599@franklincountychamber.org
SUMMARY:Christmas in the Bay
DESCRIPTION:Come celebrate Christmas in the Bay!\nCome to Red Bay to create wonderful Christmas memories with your loved ones!\nShop for gifts during our Christmas Open House\, countdown at the Christmas Tree Lighting in Bay Tree Park\, & catch some candy during the Christmas Parade!\nSUNDAY\, NOVEMBER 30\, 2025 \n\nChristmas Open House (*Participating Red Bay Businesses)\n1:00 PM – 4:30 PM\nChristmas Tree Lighting\nBay Tree Park\, Downtown Red Bay\n5:00 PM\n\nMONDAY\, DECEMBER 1\, 2025 (POSTPONED)\nMONDAY\, DECEMBER 8\, 2025 \n\nRed Bay Christmas Parade\nDowntown Red Bay | 4th Avenue \nTheme: TBA\n7:00 PM
URL:https://franklincountychamber.org/upcoming-event/christmas-in-the-bay/
LOCATION:City of Red Bay\, 203 4th Avenue SE\, Red Bay\, AL\, 35582\, United States
CATEGORIES:Christmas in Franklin County
ATTACH;FMTTYPE=image/png:https://franklincountychamber.org/wp-content/uploads/2024/11/Christmas-in-Red-Bay.png
END:VEVENT
BEGIN:VEVENT
DTSTART;TZID=America/Chicago:20251201T170000
DTEND;TZID=America/Chicago:20251201T200000
DTSTAMP:20260423T003818
CREATED:20251113T185242Z
LAST-MODIFIED:20251113T190110Z
UID:15306-1764608400-1764619200@franklincountychamber.org
SUMMARY:Nora Fleming Paint Your Own Mini Party!
DESCRIPTION:Paint Your Own Nora Fleming Mini at Russellville Florist & Gifts! \nRussellville Florist and Gifts is excited to host a Paint Your Own Mini Party! \n\nMonday\, December 1st\, 2025\nChoose your time slot\, 5-6 or 6-7\nReserve your spot on our website today!!\n$65 Registration\n\n\n\nIncluded in your ticket cost:\n-Blank Deck the Halls Mini\n-Painting Supplies (we’re using paint pens!)\n-Nora Fleming Dainty Dish (colors will vary\, first come first serve)\n-Festive Treats\n-20% off storewide (few exclusions)\n-Buy 3 Nora Fleming Minis and get one FREE\n-Exclusive Nora Fleming Gift Bag\n-Calligraphy by Lela Ray\n\nRegister here: https://russellvillefloristandgifts.com/
URL:https://franklincountychamber.org/upcoming-event/nora-fleming-paint-your-own-mini-party/
LOCATION:Russellville Florist & Gifts\, 100 N Jackson Avenue\, Russellville\, AL\, 35653\, United States
CATEGORIES:Christmas in Franklin County
ATTACH;FMTTYPE=image/jpeg:https://franklincountychamber.org/wp-content/uploads/2025/11/Russellville-Florist-Gifts-Paint-Your-Own-Mini-Nora-Fleming.jpg
END:VEVENT
BEGIN:VEVENT
DTSTART;VALUE=DATE:20251204
DTEND;VALUE=DATE:20251205
DTSTAMP:20260423T003818
CREATED:20241101T172413Z
LAST-MODIFIED:20251204T184843Z
UID:13870-1764806400-1764892799@franklincountychamber.org
SUMMARY:Christmas in Russellville
DESCRIPTION:Celebrate Christmas Cheer in Russellville!\nDon’t miss all the wonderful events happing in Russellville to celebrate Christmas!\nTHURSDAY\, DECEMBER 4\, 2025 | RESCHEDULED DUE TO WEATHER\nTUESDAY\, DECEMBER 9\, 2025 \n\nEvery Light A Prayer For Peace presented by the Cultura Garden Club\nFranklin County Courthouse\n4:15 PM\nChristmas Tree Lighting Ceremony\nByars Building – Courthouse Adjacent\n5:00 PM\nFranklin County Chamber Christmas Parade\nDowntown Russellville | Jackson Avenue\nTheme: “Winter Wonderland”\n6:00 PM\nChristmas at City Lake Park Tree Lighting Ceremony\nCity Lake Park\, Russellville\, AL\nTree Lighting & Parade After Party\n7:30 PM
URL:https://franklincountychamber.org/upcoming-event/christmas-in-russellville/
LOCATION:City of Russellville
CATEGORIES:Christmas in Franklin County
ATTACH;FMTTYPE=image/png:https://franklincountychamber.org/wp-content/uploads/2024/11/Christmas-in-Russellville-2.png
END:VEVENT
BEGIN:VEVENT
DTSTART;TZID=America/Chicago:20251204T160000
DTEND;TZID=America/Chicago:20251204T173000
DTSTAMP:20260423T003818
CREATED:20251112T183820Z
LAST-MODIFIED:20251112T183821Z
UID:15273-1764864000-1764869400@franklincountychamber.org
SUMMARY:Every Light A Prayer For Peace
DESCRIPTION:The Cultura Garden invites everyone to attend “Every Light A Prayer For Peace” for speakers\, songs\, and community ahead of the holiday season.\nThe Russellville Christmas Tree Lighting Ceremony will be held immediately after.\nThursday\, December 4\, 2025\n4:15 p.m. | Every Light A Prayer For Peace\n5:00 p.m. | Russellville Christmas Tree Lighting Ceremony \n2025 Program includes: \n\nJeff Johnson\, minister at North Highlands Church of Christ will be speaking\nLily Cate Pace\, Russellville High School senior\, will be singing the National Anthem\nRussellville City Schools Choirs performing/singing\nHonoring Veterans\, Frontline Workers\, First Responders\, EMS Volunteers
URL:https://franklincountychamber.org/upcoming-event/every-light-a-prayer-for-peace/
LOCATION:Franklin County Courthouse\, 410 N Jackson Avenue\, Russellville\, AL\, 35653\, United States
CATEGORIES:Christmas in Franklin County
ATTACH;FMTTYPE=image/png:https://franklincountychamber.org/wp-content/uploads/2025/11/Every-Light-A-Prayer-For-Peace.png
END:VEVENT
BEGIN:VEVENT
DTSTART;TZID=America/Chicago:20251205T180000
DTEND;TZID=America/Chicago:20251207T200000
DTSTAMP:20260423T003818
CREATED:20251113T182323Z
LAST-MODIFIED:20251113T182324Z
UID:15299-1764957600-1765137600@franklincountychamber.org
SUMMARY:"A Walk Thru Bethlehem" by Russellville First Baptist Church
DESCRIPTION:Experience the night of Jesus’ birth during “A Walk Thru Bethlehem!” \nRussellville First Baptist Church is proud to present “A Walk Thru Bethlehem.” \nExperience a recreations of the sights and sounds of Bethlehem the night Jesus was born. \n*No Reservations | Walk-Ins Only\nGolf Carts will be available each night from 5:30 PM – 6:30 PM for those who need assistance walking through. \nFriday\, December 5th\, 2025 | 6:00 PM – 8:00 PM\nSaturday\, December 6th\, 2025 | 6:00 PM – 8:00 PM\nSunday\, December 7th\, 2025 | 6:00 PM – 8:00 PM
URL:https://franklincountychamber.org/upcoming-event/a-walk-thru-bethlehem-by-russellville-first-baptist-church/
LOCATION:Russellville First Baptist Church\, 213 Jackson Avenue N\, Russellville\, AL\, 35653\, United States
CATEGORIES:Christmas in Franklin County
ATTACH;FMTTYPE=image/jpeg:https://franklincountychamber.org/wp-content/uploads/2025/11/A-Walk-Thru-Bethlehem.jpg
END:VEVENT
BEGIN:VEVENT
DTSTART;TZID=America/Chicago:20251206T080000
DTEND;TZID=America/Chicago:20251206T120000
DTSTAMP:20260423T003818
CREATED:20251017T160810Z
LAST-MODIFIED:20251017T160811Z
UID:15106-1765008000-1765022400@franklincountychamber.org
SUMMARY:Russellville Park & Rec - Breakfast with Santa
DESCRIPTION:Enjoy Breakfast with Santa with special performances by AFTT & Extreme Twirl!\nCome shop with local vendors!\nSaturday\, December 6th\, 2025\nA.W. Todd Centre\, Russellville\, AL\n8:00 AM – 12:00 PM\nTickets: $5
URL:https://franklincountychamber.org/upcoming-event/russellville-park-rec-breakfast-with-santa/
LOCATION:A.W. Todd Centre\, 201 Washington Ave S\, Russellville\, AL\, 35653\, United States
CATEGORIES:Christmas in Franklin County
ATTACH;FMTTYPE=image/png:https://franklincountychamber.org/wp-content/uploads/2025/10/Russellville-Park-Rec-Breakfast-with-Santa.png
END:VEVENT
BEGIN:VEVENT
DTSTART;TZID=America/Chicago:20251206T090000
DTEND;TZID=America/Chicago:20251206T113000
DTSTAMP:20260423T003818
CREATED:20241101T174201Z
LAST-MODIFIED:20251030T203652Z
UID:13877-1765011600-1765020600@franklincountychamber.org
SUMMARY:Breakfast with Santa at Northwest Shoals Community College
DESCRIPTION:Northwest Shoals Community College presents Breakfast with Santa!\nCome enjoy a delicious breakfast and visit with Santa!\n\nThe Northwest Shoals Community College Foundation is Ho-Ho-Ho-happy to announce our annual Breakfast With Santa event\, taking place on our Muscle Shoals Campus Saturday\, December 6. Join us for breakfast\, crafts\, Christmas carols\, and meet Santa and some of his special friends\, Including Elsa\, Olaf\, and the Grinch! \nTickets are $15 per person. Everyone (adults and children) 2 and older must have a ticket for entry. Children under 2 are free. This event will benefit the NWSCC Foundation. \nPurchase your tickets here!
URL:https://franklincountychamber.org/upcoming-event/breakfast-with-santa-at-northwest-shoals-community-college/
LOCATION:Northwest Shoals Community College – Shoals Campus\, 800 George Wallace Blvd.\, Muscle Shoals\, AL\, 35661\, United States
CATEGORIES:Christmas in Franklin County
ATTACH;FMTTYPE=image/png:https://franklincountychamber.org/wp-content/uploads/2024/11/NWSCC-Breakfast-with-Santa-1-scaled.png
ORGANIZER;CN="Northwest Shoals Community College Foundation":MAILTO:katie.smith@nwscc.edu
END:VEVENT
BEGIN:VEVENT
DTSTART;TZID=America/Chicago:20251206T100000
DTEND;TZID=America/Chicago:20251206T180000
DTSTAMP:20260423T003818
CREATED:20251006T200215Z
LAST-MODIFIED:20251008T175023Z
UID:15035-1765015200-1765044000@franklincountychamber.org
SUMMARY:Christmas Sip & Shop at Rock Creek Co.
DESCRIPTION:Don’t miss a Christmas Sip & Shop at Rock Creek Co.!\nCome inside & enjoy hot chocolate or sparkling cran-apple cider mocktails while you shop the latest Christmas Merchandise!\nDress up & get your picture made with Santa from 11:00 AM – 1:00 PM!
URL:https://franklincountychamber.org/upcoming-event/christmas-sip-shop-at-rock-creek-co/
LOCATION:Rock Creek Co.\, 121 Washington Avenue\, Russellville\, AL\, 35653\, United States
CATEGORIES:Christmas in Franklin County
ATTACH;FMTTYPE=image/jpeg:https://franklincountychamber.org/wp-content/uploads/2025/10/Rock-Creek-Co.-Sip-Shop.jpg
END:VEVENT
BEGIN:VEVENT
DTSTART;TZID=America/Chicago:20251207T180000
DTEND;TZID=America/Chicago:20251209T200000
DTSTAMP:20260423T003818
CREATED:20241127T182805Z
LAST-MODIFIED:20251124T215014Z
UID:13971-1765130400-1765310400@franklincountychamber.org
SUMMARY:"A Night in Bethlehem"
DESCRIPTION:Experience the birth of Jesus during “A Night in Bethlehem!”\nDrive through an amazing live nativity scene and hear the story of Jesus’ birth.\nMountain View Baptist Church in Phil Campbell invites everyone to learn the story of Jesus’ birth during their live drive through Nativity Scene! \nSunday\, December 7 | 6:00 PM – 8:00 PM\nMonday\, December 8 | 6:00 PM – 8:00 PM\nTuesday\, December 9 | 6:00 PM – 8:00 PM \nFREE ADMISSION \n 
URL:https://franklincountychamber.org/upcoming-event/a-night-in-bethlehem/
LOCATION:Mountain View Baptist Church\, 2110 Hwy 81\, Phil Campbell\, AL\, 35581\, United States
CATEGORIES:Christmas in Franklin County
ATTACH;FMTTYPE=image/jpeg:https://franklincountychamber.org/wp-content/uploads/2024/11/A-Night-in-Bethlehem.jpg
END:VEVENT
BEGIN:VEVENT
DTSTART;VALUE=DATE:20251210
DTEND;VALUE=DATE:20251215
DTSTAMP:20260423T003818
CREATED:20241101T175234Z
LAST-MODIFIED:20250922T212422Z
UID:13885-1765324800-1765756799@franklincountychamber.org
SUMMARY:The Roxy's Christmas Spectacular
DESCRIPTION:The Franklin County Arts & Humanities Council presents The Roxy’s Christmas Spectacular!\nGet your tickets for an unforgettable Christmas show at The Historic Roxy Theatre! Tickets are $15\nSHOW DATES: \n\nWednesday\, December 10 | School Performances ONLY\nThursday\, December 11 | 7:00 PM\nFriday\, December 12 | 7:00 PM\nSaturday\, December 13 | 2:00 PM & 7:00 PM\nSunday\, December 14 | 2:00 PM\n\nTickets will go on sale soon! Check The Roxy’s Christmas Spectacular Facebook Page for updates!
URL:https://franklincountychamber.org/upcoming-event/the-roxys-christmas-spectacular/
LOCATION:The Historic Roxy Theatre\, 208 N Jackson Avenue\, Russellville\, AL\, 35653\, United States
CATEGORIES:Christmas in Franklin County
ATTACH;FMTTYPE=image/jpeg:https://franklincountychamber.org/wp-content/uploads/2024/11/The-Roxys-Christmas-Spectacular-2.jpg
END:VEVENT
BEGIN:VEVENT
DTSTART;VALUE=DATE:20251211
DTEND;VALUE=DATE:20251212
DTSTAMP:20260423T003818
CREATED:20241101T173042Z
LAST-MODIFIED:20251112T182958Z
UID:13874-1765411200-1765497599@franklincountychamber.org
SUMMARY:Christmas in Phil Campbell
DESCRIPTION:Enjoy the magic of Christmas in Phil Campbell!\nCome to Phil Campbell to see an amazing parade of lights (with Santa!) and help countdown the Christmas Tree Lighting!\nTHURSDAY\, DECEMBER 11\, 2025 \n\nPhil Campbell Christmas Parade\nDowntown Phil Campbell | Broad Street\n6:00 PM\nPhil Campbell Christmas Tree Lighting Ceremony\nDowntown Phil Campbell | Memorial Park\nImmediately following parade
URL:https://franklincountychamber.org/upcoming-event/christmas-in-phil-campbell/
LOCATION:Town of Phil Campbell\, 580 Railroad Street\, Phil Campbell\, AL\, 35581\, United States
CATEGORIES:Christmas in Franklin County
ATTACH;FMTTYPE=image/png:https://franklincountychamber.org/wp-content/uploads/2024/11/Christmas-in-Phil-Campbell-1.png
END:VEVENT
END:VCALENDAR