BEGIN:VCALENDAR
VERSION:2.0
PRODID:-//Franklin County || Chamber of Commerce - ECPv6.15.20//NONSGML v1.0//EN
CALSCALE:GREGORIAN
METHOD:PUBLISH
X-ORIGINAL-URL:https://franklincountychamber.org
X-WR-CALDESC:Events for Franklin County || Chamber of Commerce
REFRESH-INTERVAL;VALUE=DURATION:PT1H
X-Robots-Tag:noindex
X-PUBLISHED-TTL:PT1H
BEGIN:VTIMEZONE
TZID:America/Chicago
BEGIN:DAYLIGHT
TZOFFSETFROM:-0600
TZOFFSETTO:-0500
TZNAME:CDT
DTSTART:20240310T080000
END:DAYLIGHT
BEGIN:STANDARD
TZOFFSETFROM:-0500
TZOFFSETTO:-0600
TZNAME:CST
DTSTART:20241103T070000
END:STANDARD
BEGIN:DAYLIGHT
TZOFFSETFROM:-0600
TZOFFSETTO:-0500
TZNAME:CDT
DTSTART:20250309T080000
END:DAYLIGHT
BEGIN:STANDARD
TZOFFSETFROM:-0500
TZOFFSETTO:-0600
TZNAME:CST
DTSTART:20251102T070000
END:STANDARD
BEGIN:DAYLIGHT
TZOFFSETFROM:-0600
TZOFFSETTO:-0500
TZNAME:CDT
DTSTART:20260308T080000
END:DAYLIGHT
BEGIN:STANDARD
TZOFFSETFROM:-0500
TZOFFSETTO:-0600
TZNAME:CST
DTSTART:20261101T070000
END:STANDARD
END:VTIMEZONE
BEGIN:VEVENT
DTSTART;TZID=America/Chicago:20251101T090000
DTEND;TZID=America/Chicago:20251101T140000
DTSTAMP:20260423T021526
CREATED:20241101T163003Z
LAST-MODIFIED:20250926T184816Z
UID:13846-1761987600-1762005600@franklincountychamber.org
SUMMARY:BelHaven Heights Gifts Christmas Open House
DESCRIPTION:BelHaven Heights Gifts Christmas Open House!\nShop great deals & check off your list at BelHaven’s Christmas Open House on Saturday\, November 1st!
URL:https://franklincountychamber.org/upcoming-event/happy-everything-holiday-party-at-belhaven-heights/
LOCATION:BelHaven Heights Gifts\, 107 4th Ave SE\, Red Bay\, AL\, 35582\, United States
CATEGORIES:Christmas in Franklin County
ATTACH;FMTTYPE=image/jpeg:https://franklincountychamber.org/wp-content/uploads/2024/11/BelHaven-Heights-Christmas-Open-House.jpg
END:VEVENT
BEGIN:VEVENT
DTSTART;TZID=America/Chicago:20251101T100000
DTEND;TZID=America/Chicago:20251101T180000
DTSTAMP:20260423T021526
CREATED:20251006T195850Z
LAST-MODIFIED:20251008T174915Z
UID:15030-1761991200-1762020000@franklincountychamber.org
SUMMARY:Rock Creek Co. Christmas Open House
DESCRIPTION:Check off your Christmas Shopping List at Rock Creek Co.!\nDon’t miss the Rock Creek Co. Christmas Open House! Shop their holiday hours to find the perfect gifts!\nHoliday Hours:\nFriday: 10:00 AM – 6:00 PM\nSaturday: 10:00 AM – 5:00 PM\nSunday: 1:00 PM – 4:00 PM
URL:https://franklincountychamber.org/upcoming-event/rock-creek-co-christmas-open-house/
LOCATION:Rock Creek Co.\, 121 Washington Avenue\, Russellville\, AL\, 35653\, United States
CATEGORIES:Christmas in Franklin County
ATTACH;FMTTYPE=image/jpeg:https://franklincountychamber.org/wp-content/uploads/2025/10/Rock-Creek-Co.-Christmas-Open-House.jpg
END:VEVENT
BEGIN:VEVENT
DTSTART;TZID=America/Chicago:20251106T180000
DTEND;TZID=America/Chicago:20251108T170000
DTSTAMP:20260423T021526
CREATED:20241101T163557Z
LAST-MODIFIED:20251009T170833Z
UID:13850-1762452000-1762621200@franklincountychamber.org
SUMMARY:"A Picture Perfect Christmas" Russellville Florist & Gifts Christmas Open House
DESCRIPTION:Don’t miss Russellville Florist & Gifts Christmas Open House: “A Picture Perfect Christmas.”\nFind the perfect gifts for your loved ones this holiday season!\nPremiere Party: Thursday\, November 6th | 6:00 PM\nHoliday Open House:\nFriday\, November 7th | 9:00 AM – 5:00 PM\nSaturday\, November 8th | 9:00 AM – 5:00 PM
URL:https://franklincountychamber.org/upcoming-event/a-small-town-christmas-russellville-florist-gifts-christmas-open-house/
LOCATION:Russellville Florist & Gifts\, 100 N Jackson Avenue\, Russellville\, AL\, 35653\, United States
CATEGORIES:Christmas in Franklin County
ATTACH;FMTTYPE=image/jpeg:https://franklincountychamber.org/wp-content/uploads/2024/11/Russellville-Florist-Gifts-A-Picture-Perfect-Christmas-Open-House.jpg
END:VEVENT
BEGIN:VEVENT
DTSTART;TZID=America/Chicago:20251107T093000
DTEND;TZID=America/Chicago:20251109T160000
DTSTAMP:20260423T021526
CREATED:20241101T161859Z
LAST-MODIFIED:20251103T210409Z
UID:13838-1762507800-1762704000@franklincountychamber.org
SUMMARY:Maggie J's Christmas Open House
DESCRIPTION:Don’t miss Maggie J’s Christmas Open House!\nNovember 7-9\, 2025\nShop during their special holiday hours to find that special gift for everyone!\nEnjoy 20% off Storewide | $5 Doorbuster Table | Giveaways | Tree T-shirts for the first 50 customers who spend $50 or more on FRIDAY & SATURDAY\nShop new arrivals and huge restocks from all your favorite brands!\nChristmas Open House Hours:\nFriday\, November 7 | 9:30 AM – 6:00 PM\nSaturday\, November 8 | 10:00 AM – 4:00 PM\nSunday\, November 9 | 1:00 PM – 4:00 PM
URL:https://franklincountychamber.org/upcoming-event/maggie-js-christmas-open-house-2024/
LOCATION:Maggie J’s\, 13720 US-43\, Russellville\, AL\, 35653\, United States
CATEGORIES:Christmas in Franklin County
ATTACH;FMTTYPE=image/jpeg:https://franklincountychamber.org/wp-content/uploads/2024/11/Maggie-Js-Christmas-Open-House-1.jpg
END:VEVENT
BEGIN:VEVENT
DTSTART;TZID=America/Chicago:20251115T080000
DTEND;TZID=America/Chicago:20251115T150000
DTSTAMP:20260423T021526
CREATED:20241101T164733Z
LAST-MODIFIED:20250908T210251Z
UID:13859-1763193600-1763218800@franklincountychamber.org
SUMMARY:Phil Campbell Christmas Bazaar
DESCRIPTION:The Phil Campbell Arts & Historical Society presents the Phil Campbell Christmas Bazaar!\nDon’t miss a great opportunity to shop with local vendors to find the perfect gifts this holiday season!\n 
URL:https://franklincountychamber.org/upcoming-event/phil-campbell-christmas-bazaar/
LOCATION:Phil Campbell Community Center\, 132 Sherry Bryce Drive\, Phil Campbell\, AL\, 35581\, United States
CATEGORIES:Christmas in Franklin County
ATTACH;FMTTYPE=image/jpeg:https://franklincountychamber.org/wp-content/uploads/2024/11/Phil-Campbell-Christmas-Bazaar.jpg
END:VEVENT
BEGIN:VEVENT
DTSTART;TZID=America/Chicago:20251116T140000
DTEND;TZID=America/Chicago:20251116T160000
DTSTAMP:20260423T021526
CREATED:20241106T194357Z
LAST-MODIFIED:20251113T180945Z
UID:13923-1763301600-1763308800@franklincountychamber.org
SUMMARY:NWSCC "Falling into Winter" Concert
DESCRIPTION:Come experience the “Falling into Winter” Concert at NWSCC!\nThe NWSCC Choir & Jazz Band will host their annual “Falling into Winter” Concert on Sunday\, November 16th at 2:00 PM!\nCome hear the sounds of Christmas performed by local students.
URL:https://franklincountychamber.org/upcoming-event/nwscc-falling-into-winter-concert/
LOCATION:Northwest Shoals Community College – Phil Campbell Campus\, 2080 College Road\, Phil Campbell\, AL\, 35581\, United States
CATEGORIES:Christmas in Franklin County
ATTACH;FMTTYPE=image/jpeg:https://franklincountychamber.org/wp-content/uploads/2024/11/NWSCC-Falling-into-Winter-Christmas-Concert-1.jpg
END:VEVENT
BEGIN:VEVENT
DTSTART;TZID=America/Chicago:20251122T160000
DTEND;TZID=America/Chicago:20251122T190000
DTSTAMP:20260423T021526
CREATED:20251104T213524Z
LAST-MODIFIED:20251104T213559Z
UID:15183-1763827200-1763838000@franklincountychamber.org
SUMMARY:Chillin' with Santa and Friends
DESCRIPTION:Santa is coming to Overton Farm\, and he’s bringing friends!\nJoin us for an unforgettable evening of holiday fun at Chillin’ with Santa & Friends.\n\n\nClaim Your Spot Here -> https://santa.overtonfarmal.com/santa\n\n\n\nWhat’s Happening:\n• Storytime with Santa\n• Finger foods and treats\n• Pictures with Santa and friends (bring your own camera)\n\n\nWhen: Saturday\, November 22 at 4:00 PM\nWhere: The Venue at Overton Farm\, 2300 Overton Farm Rd\, Hodges\, AL 35571\n\n\nBring your family\, your holiday spirit\, and your camera for a magical evening on the farm.\nTag your friends and make plans to join us — this is an event you won’t want to miss.
URL:https://franklincountychamber.org/upcoming-event/chillin-with-santa-and-friends/
LOCATION:The Venue at Overton Farm\, 2300 Overton Farm Road\, Hodges\, AL\, 35571\, United States
CATEGORIES:Christmas in Franklin County
ATTACH;FMTTYPE=image/jpeg:https://franklincountychamber.org/wp-content/uploads/2025/11/Chillin-with-Santa-Friends-Overton-Farm.jpg
END:VEVENT
BEGIN:VEVENT
DTSTART;VALUE=DATE:20251130
DTEND;VALUE=DATE:20251202
DTSTAMP:20260423T021526
CREATED:20241101T171535Z
LAST-MODIFIED:20251201T220039Z
UID:13867-1764460800-1764633599@franklincountychamber.org
SUMMARY:Christmas in the Bay
DESCRIPTION:Come celebrate Christmas in the Bay!\nCome to Red Bay to create wonderful Christmas memories with your loved ones!\nShop for gifts during our Christmas Open House\, countdown at the Christmas Tree Lighting in Bay Tree Park\, & catch some candy during the Christmas Parade!\nSUNDAY\, NOVEMBER 30\, 2025 \n\nChristmas Open House (*Participating Red Bay Businesses)\n1:00 PM – 4:30 PM\nChristmas Tree Lighting\nBay Tree Park\, Downtown Red Bay\n5:00 PM\n\nMONDAY\, DECEMBER 1\, 2025 (POSTPONED)\nMONDAY\, DECEMBER 8\, 2025 \n\nRed Bay Christmas Parade\nDowntown Red Bay | 4th Avenue \nTheme: TBA\n7:00 PM
URL:https://franklincountychamber.org/upcoming-event/christmas-in-the-bay/
LOCATION:City of Red Bay\, 203 4th Avenue SE\, Red Bay\, AL\, 35582\, United States
CATEGORIES:Christmas in Franklin County
ATTACH;FMTTYPE=image/png:https://franklincountychamber.org/wp-content/uploads/2024/11/Christmas-in-Red-Bay.png
END:VEVENT
END:VCALENDAR